BEGIN:VCALENDAR
VERSION:2.0
PRODID:-//The Harness Maker&#039;s Dream - ECPv4.6.21//NONSGML v1.0//EN
CALSCALE:GREGORIAN
METHOD:PUBLISH
X-WR-CALNAME:The Harness Maker&#039;s Dream
X-ORIGINAL-URL:https://nickkotz.com
X-WR-CALDESC:Events for The Harness Maker&#039;s Dream
BEGIN:VEVENT
DTSTART;TZID=UTC+0:20131026T080000
DTEND;TZID=UTC+0:20131027T170000
DTSTAMP:20260424T083601
CREATED:20130831T012446Z
LAST-MODIFIED:20130914T181158Z
UID:66-1382774400-1382893200@nickkotz.com
SUMMARY:2013 Texas Book Festival in Austin\, Texas
DESCRIPTION: \n
URL:https://nickkotz.com/event/2013-texas-book-festival/
LOCATION:Austin\, 78701\, United States
END:VEVENT
END:VCALENDAR