BEGIN:VCALENDAR
VERSION:2.0
PRODID:-//The Harness Maker&#039;s Dream - ECPv4.6.21//NONSGML v1.0//EN
CALSCALE:GREGORIAN
METHOD:PUBLISH
X-WR-CALNAME:The Harness Maker&#039;s Dream
X-ORIGINAL-URL:https://nickkotz.com
X-WR-CALDESC:Events for The Harness Maker&#039;s Dream
BEGIN:VEVENT
DTSTART;VALUE=DATE:20140830
DTEND;VALUE=DATE:20140831
DTSTAMP:20260414T103326
CREATED:20140704T175033Z
LAST-MODIFIED:20140704T175546Z
UID:491-1409356800-1409443199@nickkotz.com
SUMMARY:2014 Library of Congress National Book Festival
DESCRIPTION:Join author and historian Nick Kotz at the 14th annual Library of Congress National Book Festival at the Walter E. Washington Convention Center in Washington\, D.C.   \n\nMore information: \n
URL:https://nickkotz.com/event/2014-library-of-congress-national-book-festival/
END:VEVENT
END:VCALENDAR