BEGIN:VCALENDAR
VERSION:2.0
PRODID:-//The Harness Maker&#039;s Dream - ECPv4.6.21//NONSGML v1.0//EN
CALSCALE:GREGORIAN
METHOD:PUBLISH
X-WR-CALNAME:The Harness Maker&#039;s Dream
X-ORIGINAL-URL:https://nickkotz.com
X-WR-CALDESC:Events for The Harness Maker&#039;s Dream
BEGIN:VEVENT
DTSTART;TZID=UTC+0:20140614T103000
DTEND;TZID=UTC+0:20140614T120000
DTSTAMP:20260414T021534
CREATED:20140609T002928Z
LAST-MODIFIED:20140609T002939Z
UID:487-1402741800-1402747200@nickkotz.com
SUMMARY:Community History Workshop Series: Preserving Our Past
DESCRIPTION:(Sponsored by the Fort Worth Public Library and The Center for Texas Studies at TCU)\nThe Harness Maker’s Dream: Nathan Kallison and the Rise of South Texas\nLecture and book signing with Nick Kotz \nDescription: Nick Kotz will share how his grandfather\, Nathan Kallison\, escaped Russia in the 1890s and settled in South Texas. His one-room saddlery in San Antonio grew into the largest farm and ranch supply in the Southwest. Through civic involvement\, retail success and his own ranching operation\, the man and later his sons helped develop modern Texas. Kotz tells the family’s fascinating story in The Harness Maker’s Dream: Nathan Kallison and the Rise of South Texas. \n  \n
URL:https://nickkotz.com/event/community-history-workshop-series-preserving-our-pas/
LOCATION:500 W. Third St\, Fort Worth\, TX\, 76102-7305\, United States
END:VEVENT
END:VCALENDAR