BEGIN:VCALENDAR
VERSION:2.0
PRODID:-//The Harness Maker&#039;s Dream - ECPv4.6.21//NONSGML v1.0//EN
CALSCALE:GREGORIAN
METHOD:PUBLISH
X-WR-CALNAME:The Harness Maker&#039;s Dream
X-ORIGINAL-URL:https://nickkotz.com
X-WR-CALDESC:Events for The Harness Maker&#039;s Dream
BEGIN:VEVENT
DTSTART;TZID=UTC+0:20150518T123000
DTEND;TZID=UTC+0:20150518T143000
DTSTAMP:20260418T024741
CREATED:20150428T130957Z
LAST-MODIFIED:20150428T130957Z
UID:686-1431952200-1431959400@nickkotz.com
SUMMARY:Washington Hebrew Congregation: Prime Timers
DESCRIPTION:\n\n\n \nOn Monday\, May 18\, 2015\, at the Washington Hebrew Congregation’s Prime Timers Luncheon\,  Nick Kotz will discuss his latest book\, The Harness Makers Dream: Nathan Kallison and the Rise of South Texas and talk about how to research and write your own family’s story. \nTo attend\, send a check payable to WHC Prime Timers ($12 for Prime Timers\, $15 for all others) to Sandra Grant\, 4940 Sentinel Drive\, #202\, Bethesda\, MD 20816. \nFor more information\, go to http://www.whctemple.org/groups-and-activities/adult-groups/seniors  \n\n\n\n\n\nDATE: Monday\, May 18\, 2015 \nTIME: 12:30PM— 2:30PM \nLOCATION: 3935 Macomb Street NW\, Washington\, DC 20016-3741 \nFEE: $12 for Prime Timers Members\, $15 for Non-Members \n\n\n\n\n\n\n\n\n\n\n\n\n\n\n\n\nQ\n
URL:https://nickkotz.com/event/httpwww-whctemple-orggroups-and-activitiesadult-groupsseniors/
LOCATION:3935 Macomb Street NW\, Washington\, DC\, DC 20016-3741\, United States
END:VEVENT
END:VCALENDAR