BEGIN:VCALENDAR
VERSION:2.0
PRODID:-//The Harness Maker&#039;s Dream - ECPv4.6.21//NONSGML v1.0//EN
CALSCALE:GREGORIAN
METHOD:PUBLISH
X-WR-CALNAME:The Harness Maker&#039;s Dream
X-ORIGINAL-URL:https://nickkotz.com
X-WR-CALDESC:Events for The Harness Maker&#039;s Dream
BEGIN:VEVENT
DTSTART;TZID=UTC+0:20141205T140000
DTEND;TZID=UTC+0:20141205T150000
DTSTAMP:20260416T173620
CREATED:20141024T145738Z
LAST-MODIFIED:20141024T145826Z
UID:643-1417788000-1417791600@nickkotz.com
SUMMARY:Nick Kotz at The Alamo Research Center San Antonio
DESCRIPTION:Nick Kotz will be at The Alamo Research Center (formerly Daughters of the Republic of Texas Library at 2pm. Event is in Alamo Hall in the Alamo Complex. \n
URL:https://nickkotz.com/event/nick-kotz-at-the-alamo-research-center-san-antonio/
LOCATION:300 Alamo Plaza\, San Antonio\, TX\, 78295-1401\, United States
END:VEVENT
END:VCALENDAR