BEGIN:VCALENDAR
VERSION:2.0
PRODID:-//The Harness Maker&#039;s Dream - ECPv4.6.21//NONSGML v1.0//EN
CALSCALE:GREGORIAN
METHOD:PUBLISH
X-WR-CALNAME:The Harness Maker&#039;s Dream
X-ORIGINAL-URL:https://nickkotz.com
X-WR-CALDESC:Events for The Harness Maker&#039;s Dream
BEGIN:VEVENT
DTSTART;TZID=UTC+0:20141204T130000
DTEND;TZID=UTC+0:20141204T150000
DTSTAMP:20260416T003907
CREATED:20141114T122824Z
LAST-MODIFIED:20141114T122824Z
UID:670-1417698000-1417705200@nickkotz.com
SUMMARY:Nick Kotz talk at the San Antonio Genealogical and Historical Society Library
DESCRIPTION:1:00 – 3:00 PM\nThursday\, December 4 \nNick Kotz will give a talk at the San Antonio Genealogical and Historical Society Library.  911 Melissa Drive\, San Antonio\, TX 78213 \n
URL:https://nickkotz.com/event/nick-kotz-talk-at-the-san-antonio-genealogical-and-historical-society-library/
LOCATION:911 Melissa Drive\, San Antonio\, 78213\, United States
END:VEVENT
END:VCALENDAR