BEGIN:VCALENDAR
VERSION:2.0
PRODID:-//The Harness Maker&#039;s Dream - ECPv4.6.21//NONSGML v1.0//EN
CALSCALE:GREGORIAN
METHOD:PUBLISH
X-WR-CALNAME:The Harness Maker&#039;s Dream
X-ORIGINAL-URL:https://nickkotz.com
X-WR-CALDESC:Events for The Harness Maker&#039;s Dream
BEGIN:VEVENT
DTSTART;TZID=UTC+0:20131206T170000
DTEND;TZID=UTC+0:20131206T190000
DTSTAMP:20260418T024755
CREATED:20130923T214709Z
LAST-MODIFIED:20130924T204521Z
UID:236-1386349200-1386356400@nickkotz.com
SUMMARY:Talk and Signing at The Twig Book Shop
DESCRIPTION:
URL:https://nickkotz.com/event/reading-at-the-twig-book-shop/
LOCATION: Suite 106\, 306 Pearl Pkwy\, San Antonio\, 78215\, United States
END:VEVENT
END:VCALENDAR