BEGIN:VCALENDAR
VERSION:2.0
PRODID:-//The Harness Maker&#039;s Dream - ECPv4.6.21//NONSGML v1.0//EN
CALSCALE:GREGORIAN
METHOD:PUBLISH
X-WR-CALNAME:The Harness Maker&#039;s Dream
X-ORIGINAL-URL:https://nickkotz.com
X-WR-CALDESC:Events for The Harness Maker&#039;s Dream
BEGIN:VEVENT
DTSTART;TZID=UTC+0:20151030T080000
DTEND;TZID=UTC+0:20151101T170000
DTSTAMP:20260418T024628
CREATED:20150827T171744Z
LAST-MODIFIED:20150827T171744Z
UID:762-1446192000-1446397200@nickkotz.com
SUMMARY:Southern Jewish Historical Society Conference
DESCRIPTION:
URL:https://nickkotz.com/event/southern-jewish-historical-society-conference/
LOCATION:2400 West End Avenue\, Nashville\, TN\, 37203\, United States
END:VEVENT
END:VCALENDAR