BEGIN:VCALENDAR
VERSION:2.0
PRODID:-//The Harness Maker&#039;s Dream - ECPv4.6.21//NONSGML v1.0//EN
CALSCALE:GREGORIAN
METHOD:PUBLISH
X-WR-CALNAME:The Harness Maker&#039;s Dream
X-ORIGINAL-URL:https://nickkotz.com
X-WR-CALDESC:Events for The Harness Maker&#039;s Dream
BEGIN:VEVENT
DTSTART;TZID=UTC+0:20140611T000000
DTEND;TZID=UTC+0:20140611T130000
DTSTAMP:20260418T024618
CREATED:20140609T002517Z
LAST-MODIFIED:20140609T002600Z
UID:485-1402444800-1402491600@nickkotz.com
SUMMARY:The Sylvia Wolens Daytimers Event
DESCRIPTION:The Sylvia Wolens Daytimers Event\n(A program of Beth-El Congregation\, with support from the Jewish Federation)  \nDescription: Everyone’s life is interesting. But most people take their untold stories with them to the grave. The Kallison family\, however\, was fortunate to have a Pulitzer Prize-winning journalist among its offspring. With the help of documents from the National Archives\, our speaker uncorked secrets that had been bottled up in his family’s past and will share them with Daytimers. You will have the opportunity to ask questions and to purchase an autographed copy of his book. \n  \n  \n
URL:https://nickkotz.com/event/the-sylvia-wolens-daytimers-event/
LOCATION:4900 Briarhaven Rd\, Fort Worth\, TX\, 76109\, United States
END:VEVENT
END:VCALENDAR